BEGIN:VCALENDAR
VERSION:2.0
PRODID:-//PYVOBJECT//NONSGML Version 0.9.9//EN
X-WR-TIMEZONE:Africa/Johannesburg
BEGIN:VTIMEZONE
TZID:Africa/Johannesburg
BEGIN:STANDARD
DTSTART:20000101T000000
RRULE:FREQ=YEARLY;BYMONTH=1
TZNAME:SAST
TZOFFSETFROM:+0200
TZOFFSETTO:+0200
END:STANDARD
END:VTIMEZONE
BEGIN:VEVENT
UID:20260422T010308Z - 57999@eos-content
DTSTART;TZID=Africa/Johannesburg:20260425T140000
DTEND;TZID=Africa/Johannesburg:20260425T150000
ATTENDEE:MAILTO:cindy.s@harcourts.co.za
DESCRIPTION:https://www.harcourts.co.za/results/residential/for-sale/germis
 ton/elsburg/apartment/2997308/1-ss-tanya-19-dollie-street/\n\nPlease call 
 agent for access and an appointment.\n\nCindy-Lee Sterrenberg (0844183266)
DTSTAMP:20260422T010308Z
LOCATION:1 SS TANYA\, 19 Dollie Street\, Elsburg\, Germiston
SUMMARY:Harcourts South Africa Show Day - RL56142
END:VEVENT
END:VCALENDAR
