BEGIN:VCALENDAR
VERSION:2.0
PRODID:-//PYVOBJECT//NONSGML Version 0.9.9//EN
X-WR-TIMEZONE:Africa/Johannesburg
BEGIN:VTIMEZONE
TZID:Africa/Johannesburg
BEGIN:STANDARD
DTSTART:20000101T000000
RRULE:FREQ=YEARLY;BYMONTH=1
TZNAME:SAST
TZOFFSETFROM:+0200
TZOFFSETTO:+0200
END:STANDARD
END:VTIMEZONE
BEGIN:VEVENT
UID:20260419T155216Z - 66064@eos-content
DTSTART;TZID=Africa/Johannesburg:20260420T130000
DTEND;TZID=Africa/Johannesburg:20260420T140000
ATTENDEE:MAILTO:jannette.a@harcourts.co.za
DESCRIPTION:https://www.harcourts.co.za/results/residential/for-sale/hillcr
 est/hillcrest-central/townhouse/3011507/\n\nBy appointment only\n\nJannett
 e Alberts (0725951738)
DTSTAMP:20260419T155216Z
LOCATION:Hillcrest Central\, Hillcrest
SUMMARY:Harcourts South Africa Show Day - RL56681
END:VEVENT
END:VCALENDAR
