BEGIN:VCALENDAR
VERSION:2.0
PRODID:-//PYVOBJECT//NONSGML Version 0.9.9//EN
X-WR-TIMEZONE:Africa/Johannesburg
BEGIN:VTIMEZONE
TZID:Africa/Johannesburg
BEGIN:STANDARD
DTSTART:20000101T000000
RRULE:FREQ=YEARLY;BYMONTH=1
TZNAME:SAST
TZOFFSETFROM:+0200
TZOFFSETTO:+0200
END:STANDARD
END:VTIMEZONE
BEGIN:VEVENT
UID:20260423T190325Z - 70111@eos-content
DTSTART;TZID=Africa/Johannesburg:20260425T100000
DTEND;TZID=Africa/Johannesburg:20260425T110000
ATTENDEE:MAILTO:jennifer.taylor@harcourts.co.za
ATTENDEE:MAILTO:paul.c@harcourts.co.za
DESCRIPTION:https://www.harcourts.co.za/results/residential/for-sale/somers
 et-west/schonenberg/gated-estate/3026952/\n\n20 Sillery Street\, Schonenbe
 rg Estate\nBY APPOINTMENT ONLY\n\nJennifer Taylor (0 63 727 4872)\n\nPaul 
 Castignani (0 82 886 1743)
DTSTAMP:20260423T190325Z
LOCATION:Schonenberg\, Somerset West
SUMMARY:Harcourts South Africa Show Day - RL57579
END:VEVENT
END:VCALENDAR
