BEGIN:VCALENDAR
VERSION:2.0
PRODID:-//PYVOBJECT//NONSGML Version 0.9.9//EN
X-WR-TIMEZONE:Africa/Johannesburg
BEGIN:VTIMEZONE
TZID:Africa/Johannesburg
BEGIN:STANDARD
DTSTART:20000101T000000
RRULE:FREQ=YEARLY;BYMONTH=1
TZNAME:SAST
TZOFFSETFROM:+0200
TZOFFSETTO:+0200
END:STANDARD
END:VTIMEZONE
BEGIN:VEVENT
UID:20260424T041041Z - 51846@eos-content
DTSTART;TZID=Africa/Johannesburg:20260426T140000
DTEND;TZID=Africa/Johannesburg:20260426T170000
ATTENDEE:MAILTO:mauritz.bloem@harcourts.co.za
DESCRIPTION:https://www.harcourts.co.za/results/residential/for-sale/vander
 bijlpark/vanderbijlpark-se-4/duplex/3035294/\n\nBerg Rivier Str \,Se4\,Van
 derbijlpark.\nDriving Down Louis Trichardt Blvd to Emerald Casino you will
  turn left on to Vaalrivier Street and then Second one left again on to Be
 rg Rivier Street .The Complex Berg Rivier Villas will be on your left.\n\n
 Mauritz Bloem (072 767 6688)
DTSTAMP:20260424T041041Z
LOCATION:Vanderbijlpark SE 4\, Vanderbijlpark
SUMMARY:Harcourts South Africa Show Day - RL58081
END:VEVENT
END:VCALENDAR
