BEGIN:VCALENDAR
VERSION:2.0
PRODID:-//PYVOBJECT//NONSGML Version 0.9.9//EN
X-WR-TIMEZONE:Africa/Johannesburg
BEGIN:VTIMEZONE
TZID:Africa/Johannesburg
BEGIN:STANDARD
DTSTART:20000101T000000
RRULE:FREQ=YEARLY;BYMONTH=1
TZNAME:SAST
TZOFFSETFROM:+0200
TZOFFSETTO:+0200
END:STANDARD
END:VTIMEZONE
BEGIN:VEVENT
UID:20260423T102611Z - 29736@eos-content
DTSTART;TZID=Africa/Johannesburg:20260424T140000
DTEND;TZID=Africa/Johannesburg:20260424T170000
ATTENDEE:MAILTO:irene.odendaal@harcourts.co.za
DESCRIPTION:https://www.harcourts.co.za/results/residential/for-sale/pretor
 ia/magalieskruin/house/3076013/\n\nPRIOR TO SHOW DAY CONTACT AGENT FOR APP
 OINTMENT TO VIEW\n\nIrene Odendaal (0 82 620 7763)
DTSTAMP:20260423T102611Z
LOCATION:Magalieskruin\, Pretoria
SUMMARY:Harcourts South Africa Show Day - RL59821
END:VEVENT
END:VCALENDAR
