BEGIN:VCALENDAR
VERSION:2.0
PRODID:-//PYVOBJECT//NONSGML Version 0.9.9//EN
X-WR-TIMEZONE:Africa/Johannesburg
BEGIN:VTIMEZONE
TZID:Africa/Johannesburg
BEGIN:STANDARD
DTSTART:20000101T000000
RRULE:FREQ=YEARLY;BYMONTH=1
TZNAME:SAST
TZOFFSETFROM:+0200
TZOFFSETTO:+0200
END:STANDARD
END:VTIMEZONE
BEGIN:VEVENT
UID:20260420T031927Z - 74226@eos-content
DTSTART;TZID=Africa/Johannesburg:20260421T150000
DTEND;TZID=Africa/Johannesburg:20260421T160000
ATTENDEE:MAILTO:carine.smook@harcourts.co.za
DESCRIPTION:https://www.harcourts.co.za/results/residential/for-sale/scottb
 urgh/scottburgh-central/townhouse/3088431/4-ss-cinnabah-ridge-45-airth-str
 eet/\n\nFrom R102 turn into Airth Street \ncross the first crossing at Ers
 kine Street\n45 Airth Street is just after Erskine Street\nCall at the gat
 e to be opened\n\nCarine Smook (083 253 3349)
DTSTAMP:20260420T031927Z
LOCATION:4 SS CINNABAH RIDGE\, 45 Airth Street\, Scottburgh Central\, Scott
 burgh
SUMMARY:Harcourts South Africa Show Day - RL60434
END:VEVENT
END:VCALENDAR
