BEGIN:VCALENDAR
VERSION:2.0
PRODID:-//PYVOBJECT//NONSGML Version 0.9.9//EN
X-WR-TIMEZONE:Africa/Johannesburg
BEGIN:VTIMEZONE
TZID:Africa/Johannesburg
BEGIN:STANDARD
DTSTART:20000101T000000
RRULE:FREQ=YEARLY;BYMONTH=1
TZNAME:SAST
TZOFFSETFROM:+0200
TZOFFSETTO:+0200
END:STANDARD
END:VTIMEZONE
BEGIN:VEVENT
UID:20260422T182647Z - 14122@eos-content
DTSTART;TZID=Africa/Johannesburg:20260422T170000
DTEND;TZID=Africa/Johannesburg:20260422T180000
ATTENDEE:MAILTO:marie.kriel@harcourts.co.za
DESCRIPTION:https://www.harcourts.co.za/results/residential/for-sale/centur
 ion/die-hoewes/townhouse/3105575/\n\nOn Show by Appointment - Contact Agen
 t for street address and to book an appointment\n\nMarie Kriel (084 721 70
 17)
DTSTAMP:20260422T182647Z
LOCATION:Die Hoewes\, Centurion
SUMMARY:Harcourts South Africa Show Day - RL61164
END:VEVENT
END:VCALENDAR
