BEGIN:VCALENDAR
VERSION:2.0
PRODID:-//PYVOBJECT//NONSGML Version 0.9.9//EN
X-WR-TIMEZONE:Africa/Johannesburg
BEGIN:VTIMEZONE
TZID:Africa/Johannesburg
BEGIN:STANDARD
DTSTART:20000101T000000
RRULE:FREQ=YEARLY;BYMONTH=1
TZNAME:SAST
TZOFFSETFROM:+0200
TZOFFSETTO:+0200
END:STANDARD
END:VTIMEZONE
BEGIN:VEVENT
UID:20260420T175015Z - 86642@eos-content
DTSTART;TZID=Africa/Johannesburg:20260421T170000
DTEND;TZID=Africa/Johannesburg:20260421T180000
ATTENDEE:MAILTO:teamupton@harcourts.co.za
ATTENDEE:MAILTO:byron.teamupton@harcourts.co.za
DESCRIPTION:https://www.harcourts.co.za/results/residential/for-sale/bellvi
 lle/de-la-haye/duplex/3123980/\n\n22 Linda Street\, De La Haye\n\nTim & Ca
 ron Upton (065 930 1111)\n\nByron Ambler (083 786 3131)
DTSTAMP:20260420T175015Z
LOCATION:De La Haye\, Bellville
SUMMARY:Harcourts South Africa Show Day - RL62204
END:VEVENT
END:VCALENDAR
