BEGIN:VCALENDAR
VERSION:2.0
PRODID:-//PYVOBJECT//NONSGML Version 0.9.9//EN
X-WR-TIMEZONE:Africa/Johannesburg
BEGIN:VTIMEZONE
TZID:Africa/Johannesburg
BEGIN:STANDARD
DTSTART:20000101T000000
RRULE:FREQ=YEARLY;BYMONTH=1
TZNAME:SAST
TZOFFSETFROM:+0200
TZOFFSETTO:+0200
END:STANDARD
END:VTIMEZONE
BEGIN:VEVENT
UID:20260421T121643Z - 45610@eos-content
DTSTART;TZID=Africa/Johannesburg:20260422T100000
DTEND;TZID=Africa/Johannesburg:20260422T110000
ATTENDEE:MAILTO:cindy.freidberg@harcourts.co.za
DESCRIPTION:https://www.harcourts.co.za/results/residential/for-sale/scottb
 urgh/scottburgh-south/freestanding/3124405/16-davallen-road/\n\n16 Davalle
 n Road\, Scottburgh South\n\nCindy Freidberg (082 692 6324)
DTSTAMP:20260421T121643Z
LOCATION:16 Davallen Road\, Scottburgh South\, Scottburgh
SUMMARY:Harcourts South Africa Show Day - RL62241
END:VEVENT
END:VCALENDAR
