BEGIN:VCALENDAR
VERSION:2.0
PRODID:-//PYVOBJECT//NONSGML Version 0.9.9//EN
X-WR-TIMEZONE:Africa/Johannesburg
BEGIN:VTIMEZONE
TZID:Africa/Johannesburg
BEGIN:STANDARD
DTSTART:20000101T000000
RRULE:FREQ=YEARLY;BYMONTH=1
TZNAME:SAST
TZOFFSETFROM:+0200
TZOFFSETTO:+0200
END:STANDARD
END:VTIMEZONE
BEGIN:VEVENT
UID:20260421T155507Z - 20370@eos-content
DTSTART;TZID=Africa/Johannesburg:20260426T120000
DTEND;TZID=Africa/Johannesburg:20260426T130000
ATTENDEE:MAILTO:jennifer.w@harcourts.co.za
ATTENDEE:MAILTO:marietjie.v@harcourts.co.za
ATTENDEE:MAILTO:johan.w@harcourts.co.za
DESCRIPTION:https://www.harcourts.co.za/results/residential/for-sale/boksbu
 rg/freeway-park/duplex/3125311/\n\nContact us to book your exclusive viewi
 ng appointment\n\nJennifer Wagener (074 496 7026)\n\nMarietjie Vosloo (072
 6413756)\n\nJohan Wagener (082 411 2099)
DTSTAMP:20260421T155507Z
LOCATION:Freeway Park\, Boksburg
SUMMARY:Harcourts South Africa Show Day - RL62312
END:VEVENT
END:VCALENDAR
