BEGIN:VCALENDAR
VERSION:2.0
PRODID:-//PYVOBJECT//NONSGML Version 0.9.9//EN
X-WR-TIMEZONE:Africa/Johannesburg
BEGIN:VTIMEZONE
TZID:Africa/Johannesburg
BEGIN:STANDARD
DTSTART:20000101T000000
RRULE:FREQ=YEARLY;BYMONTH=1
TZNAME:SAST
TZOFFSETFROM:+0200
TZOFFSETTO:+0200
END:STANDARD
END:VTIMEZONE
BEGIN:VEVENT
UID:20260423T174502Z - 49850@eos-content
DTSTART;TZID=Africa/Johannesburg:20260423T050000
DTEND;TZID=Africa/Johannesburg:20260423T060000
ATTENDEE:MAILTO:sonja.quinn@harcourts.co.za
ATTENDEE:MAILTO:lizelle.koch@harcourts.co.za
DESCRIPTION:https://www.harcourts.co.za/results/residential/for-sale/bellvi
 lle/oakdale/house/3125370/\n\nCall Sonja 0710813404\n\nSonja Quinn (071 08
 1 3404)\n\nLizelle Koch (082 897 5098)
DTSTAMP:20260423T174502Z
LOCATION:Oakdale\, Bellville
SUMMARY:Harcourts South Africa Show Day - RL62318
END:VEVENT
END:VCALENDAR
