BEGIN:VCALENDAR
VERSION:2.0
PRODID:-//PYVOBJECT//NONSGML Version 0.9.9//EN
X-WR-TIMEZONE:Africa/Johannesburg
BEGIN:VTIMEZONE
TZID:Africa/Johannesburg
BEGIN:STANDARD
DTSTART:20000101T000000
RRULE:FREQ=YEARLY;BYMONTH=1
TZNAME:SAST
TZOFFSETFROM:+0200
TZOFFSETTO:+0200
END:STANDARD
END:VTIMEZONE
BEGIN:VEVENT
UID:20260423T174513Z - 67049@eos-content
DTSTART;TZID=Africa/Johannesburg:20260425T140000
DTEND;TZID=Africa/Johannesburg:20260425T170000
ATTENDEE:MAILTO:loretta.chiloane@harcourts.co.za
DESCRIPTION:https://www.harcourts.co.za/results/residential/for-sale/spring
 s/dersley/house/3125435/\n\nKindly contact Loretta Chiloane on 071 886 247
 7 for booking an appointment for viewing on Saturday 25 April 2026 From 14
 h00 to 17h00.\n\nLoretta Chiloane (071 886 2477)
DTSTAMP:20260423T174513Z
LOCATION:Dersley\, Springs
SUMMARY:Harcourts South Africa Show Day - RL62321
END:VEVENT
END:VCALENDAR
