BEGIN:VCALENDAR
VERSION:2.0
PRODID:-//PYVOBJECT//NONSGML Version 0.9.9//EN
X-WR-TIMEZONE:Africa/Johannesburg
BEGIN:VTIMEZONE
TZID:Africa/Johannesburg
BEGIN:STANDARD
DTSTART:20000101T000000
RRULE:FREQ=YEARLY;BYMONTH=1
TZNAME:SAST
TZOFFSETFROM:+0200
TZOFFSETTO:+0200
END:STANDARD
END:VTIMEZONE
BEGIN:VEVENT
UID:20260422T141240Z - 72240@eos-content
DTSTART;TZID=Africa/Johannesburg:20260426T140000
DTEND;TZID=Africa/Johannesburg:20260426T150000
ATTENDEE:MAILTO:fezile.qina@harcourts.co.za
DESCRIPTION:https://www.harcourts.co.za/results/residential/for-sale/johann
 esburg/cyrildene/freestanding/3125587/\n\nBy appointment only - contact li
 sting agent\n\nFezile Qina (060 874 4599)
DTSTAMP:20260422T141240Z
LOCATION:Cyrildene\, Johannesburg
SUMMARY:Harcourts South Africa Show Day - RL62333
END:VEVENT
END:VCALENDAR
