BEGIN:VCALENDAR
VERSION:2.0
PRODID:-//PYVOBJECT//NONSGML Version 0.9.9//EN
X-WR-TIMEZONE:Africa/Johannesburg
BEGIN:VTIMEZONE
TZID:Africa/Johannesburg
BEGIN:STANDARD
DTSTART:20000101T000000
RRULE:FREQ=YEARLY;BYMONTH=1
TZNAME:SAST
TZOFFSETFROM:+0200
TZOFFSETTO:+0200
END:STANDARD
END:VTIMEZONE
BEGIN:VEVENT
UID:20260420T182659Z - 48402@eos-content
DTSTART;TZID=Africa/Johannesburg:20260426T160000
DTEND;TZID=Africa/Johannesburg:20260426T170000
ATTENDEE:MAILTO:zhigne.duvenhage@harcourts.co.za
ATTENDEE:MAILTO:jeanette.korting@harcourts.co.za
DESCRIPTION:https://www.harcourts.co.za/results/residential/for-sale/roodep
 oort/allens-nek/townhouse/3140463/61-the-summit-94-wilhelmina-avenue/\n\nS
 oft Launch: 26 April 4pm-5pm\n\nOn Show:\nSunday’s  4pm-5pm\nTuesday’s
   5pm-6pm\n\nZhigne Duvenhage (079 453 8660)\n\nJeanette Korting (074 892 
 4298)
DTSTAMP:20260420T182659Z
LOCATION:61 The Summit\, 94 Wilhelmina Avenue\, Allen's Nek\, Roodepoort
SUMMARY:Harcourts South Africa Show Day - RL63154
END:VEVENT
END:VCALENDAR
