BEGIN:VCALENDAR
VERSION:2.0
PRODID:-//PYVOBJECT//NONSGML Version 0.9.9//EN
X-WR-TIMEZONE:Africa/Johannesburg
BEGIN:VTIMEZONE
TZID:Africa/Johannesburg
BEGIN:STANDARD
DTSTART:20000101T000000
RRULE:FREQ=YEARLY;BYMONTH=1
TZNAME:SAST
TZOFFSETFROM:+0200
TZOFFSETTO:+0200
END:STANDARD
END:VTIMEZONE
BEGIN:VEVENT
UID:20260423T062800Z - 74566@eos-content
DTSTART;TZID=Africa/Johannesburg:20260425T120000
DTEND;TZID=Africa/Johannesburg:20260425T140000
ATTENDEE:MAILTO:irma.olivier@harcourts.co.za
ATTENDEE:MAILTO:marius.brandow@harcourts.co.za
DESCRIPTION:https://www.harcourts.co.za/results/residential/for-sale/centur
 ion/amberfield/townhouse/3140579/\n\nBook your private viewing\n\nIrma Oli
 vier (072 474 1123)\n\nMarius Brandow (837062807)
DTSTAMP:20260423T062800Z
LOCATION:Amberfield\, Centurion
SUMMARY:Harcourts South Africa Show Day - RL63163
END:VEVENT
END:VCALENDAR
