BEGIN:VCALENDAR
VERSION:2.0
PRODID:-//PYVOBJECT//NONSGML Version 0.9.9//EN
X-WR-TIMEZONE:Africa/Johannesburg
BEGIN:VTIMEZONE
TZID:Africa/Johannesburg
BEGIN:STANDARD
DTSTART:20000101T000000
RRULE:FREQ=YEARLY;BYMONTH=1
TZNAME:SAST
TZOFFSETFROM:+0200
TZOFFSETTO:+0200
END:STANDARD
END:VTIMEZONE
BEGIN:VEVENT
UID:20260423T063437Z - 27201@eos-content
DTSTART;TZID=Africa/Johannesburg:20260425T093000
DTEND;TZID=Africa/Johannesburg:20260425T103000
ATTENDEE:MAILTO:azelle.durand@harcourts.co.za
DESCRIPTION:https://www.harcourts.co.za/results/residential/for-sale/scottb
 urgh/scottburgh-central/flat/3140866/12-coral-sands-161-scott/\n\nComing f
 rom Durban: (north)\n1.	Merge onto N2 towards Port Shepstone / South Coast
 \n2.	Take exit 110 towards Dududu / R102 / Scottburgh\n3.	Turn LEFT onto D
 ududu rd \n4.	Turn RIGHT onto R102\n5.	Turn LEFT onto George Crookes str\n
 6.	Coral Sands – destination will be on the RIGHT\n\nComing from Port Sh
 epstone: (south)\n1.	Merge on the N2 \n2.	Take exit 104 for R612 towards U
 mzinto / Park Rynie\n3.	Sharp RIGHT onto R612\n4.	Turn LEFT onto R102\n5.	
 Turn RIGHT onto toward Airth street\n6.	Turn LEFT onto Scott street\n7.	Co
 ral Sands– destination will be on the LEFT\n\nAzelle du Rand (084 410 88
 64)
DTSTAMP:20260423T063437Z
LOCATION:12 Coral Sands\, 161 Scott\, Scottburgh Central\, Scottburgh
SUMMARY:Harcourts South Africa Show Day - RL63191
END:VEVENT
END:VCALENDAR
