BEGIN:VCALENDAR
VERSION:2.0
PRODID:-//PYVOBJECT//NONSGML Version 0.9.9//EN
X-WR-TIMEZONE:Africa/Johannesburg
BEGIN:VTIMEZONE
TZID:Africa/Johannesburg
BEGIN:STANDARD
DTSTART:20000101T000000
RRULE:FREQ=YEARLY;BYMONTH=1
TZNAME:SAST
TZOFFSETFROM:+0200
TZOFFSETTO:+0200
END:STANDARD
END:VTIMEZONE
BEGIN:VEVENT
UID:20260423T143748Z - 80464@eos-content
DTSTART;TZID=Africa/Johannesburg:20260505T160000
DTEND;TZID=Africa/Johannesburg:20260505T180000
ATTENDEE:MAILTO:tanya.rautenbach@harcourts.co.za
ATTENDEE:MAILTO:valria.ferreira@harcourts.co.za
DESCRIPTION:https://www.harcourts.co.za/results/residential/for-sale/rusten
 burg/heuwelsig/house/3146416/\n\nContact Agents for address\n\nTanya Raute
 nbach (0763751250)\n\nValria Ferreira (0726264042)
DTSTAMP:20260423T143748Z
LOCATION:Heuwelsig\, Rustenburg
SUMMARY:Harcourts South Africa Show Day - RL63527
END:VEVENT
END:VCALENDAR
