BEGIN:VCALENDAR
VERSION:2.0
PRODID:-//PYVOBJECT//NONSGML Version 0.9.9//EN
X-WR-TIMEZONE:Africa/Johannesburg
BEGIN:VTIMEZONE
TZID:Africa/Johannesburg
BEGIN:STANDARD
DTSTART:20000101T000000
RRULE:FREQ=YEARLY;BYMONTH=1
TZNAME:SAST
TZOFFSETFROM:+0200
TZOFFSETTO:+0200
END:STANDARD
END:VTIMEZONE
BEGIN:VEVENT
UID:20260423T123510Z - 45862@eos-content
DTSTART;TZID=Africa/Johannesburg:20260425T140000
DTEND;TZID=Africa/Johannesburg:20260425T160000
ATTENDEE:MAILTO:marius.brandow@harcourts.co.za
DESCRIPTION:https://www.harcourts.co.za/results/residential/for-sale/centur
 ion/zwartkop-golf-estate/apartment/3148516/304d-sarazen-view-1086-snead-ma
 nor-street/\n\nPlease confirm attendance. An access code has to be sent be
 forehand\n\nMarius Brandow (837062807)
DTSTAMP:20260423T123510Z
LOCATION:304D Sarazen View\, 1086 Snead Manor Street\, Zwartkop Golf Estate
 \, Centurion
SUMMARY:Harcourts South Africa Show Day - RL63620
END:VEVENT
END:VCALENDAR
