BEGIN:VCALENDAR
VERSION:2.0
PRODID:-//PYVOBJECT//NONSGML Version 0.9.9//EN
X-WR-TIMEZONE:Africa/Johannesburg
BEGIN:VTIMEZONE
TZID:Africa/Johannesburg
BEGIN:STANDARD
DTSTART:20000101T000000
RRULE:FREQ=YEARLY;BYMONTH=1
TZNAME:SAST
TZOFFSETFROM:+0200
TZOFFSETTO:+0200
END:STANDARD
END:VTIMEZONE
BEGIN:VEVENT
UID:20260423T154309Z - 82856@eos-content
DTSTART;TZID=Africa/Johannesburg:20260425T160000
DTEND;TZID=Africa/Johannesburg:20260425T170000
ATTENDEE:MAILTO:atle.mannya@harcourts.co.za
DESCRIPTION:https://www.harcourts.co.za/results/residential/for-sale/centur
 ion/midstream-estate/freestanding/3149087/56-old-kent-drive/\n\nViewing by
  Appointment only.\n\nReatlega Mannya (079 668 8747)
DTSTAMP:20260423T154309Z
LOCATION:56 Old kent Drive\, Midstream Estate\, Centurion
SUMMARY:Harcourts South Africa Show Day - RL63655
END:VEVENT
END:VCALENDAR
